BEGIN:VCALENDAR
VERSION:2.0
PRODID:-//Fairy Dust Crystals &amp; Such - ECPv6.15.20//NONSGML v1.0//EN
CALSCALE:GREGORIAN
METHOD:PUBLISH
X-WR-CALNAME:Fairy Dust Crystals &amp; Such
X-ORIGINAL-URL:https://fairydustcrystals.com
X-WR-CALDESC:Events for Fairy Dust Crystals &amp; Such
REFRESH-INTERVAL;VALUE=DURATION:PT1H
X-Robots-Tag:noindex
X-PUBLISHED-TTL:PT1H
BEGIN:VTIMEZONE
TZID:America/New_York
BEGIN:DAYLIGHT
TZOFFSETFROM:-0500
TZOFFSETTO:-0400
TZNAME:EDT
DTSTART:20250309T070000
END:DAYLIGHT
BEGIN:STANDARD
TZOFFSETFROM:-0400
TZOFFSETTO:-0500
TZNAME:EST
DTSTART:20251102T060000
END:STANDARD
BEGIN:DAYLIGHT
TZOFFSETFROM:-0500
TZOFFSETTO:-0400
TZNAME:EDT
DTSTART:20260308T070000
END:DAYLIGHT
BEGIN:STANDARD
TZOFFSETFROM:-0400
TZOFFSETTO:-0500
TZNAME:EST
DTSTART:20261101T060000
END:STANDARD
BEGIN:DAYLIGHT
TZOFFSETFROM:-0500
TZOFFSETTO:-0400
TZNAME:EDT
DTSTART:20270314T070000
END:DAYLIGHT
BEGIN:STANDARD
TZOFFSETFROM:-0400
TZOFFSETTO:-0500
TZNAME:EST
DTSTART:20271107T060000
END:STANDARD
END:VTIMEZONE
BEGIN:VEVENT
DTSTART;TZID=America/New_York:20260613T080000
DTEND;TZID=America/New_York:20260613T170000
DTSTAMP:20260419T120940
CREATED:20260414T115132Z
LAST-MODIFIED:20260414T115132Z
UID:10003500-1781337600-1781370000@fairydustcrystals.com
SUMMARY:Reiki One with Joanne Ansell
DESCRIPTION:2 day event  June 13 and June 14\,  Saturday and Sunday\n\n\nDiscover the healing power of Reiki and learn how to channel energy for self-healing and the healing of others. This class is perfect for beginners looking to explore the world of energy healing. \n**What to Expect:** \n– Introduction to Reiki principles \n– Hands-on practice and techniques \n– Guidance from an experienced instructor \n– A supportive and nurturing environment \n**Reserve Your Spot Today!** \nSpaces are limited\, so be sure to register early!
URL:https://fairydustcrystals.com/event/reiki-one-with-joanne-ansell-3/2026-06-13/1/
LOCATION:Fairy Dust Crystals & Such\, 11781 SE US Highway 441\, Belleview\, FL\, United States
ATTACH;FMTTYPE=image/jpeg:https://fairydustcrystals.com/wp-content/uploads/2026/01/reikihands-2.jpg
END:VEVENT
BEGIN:VEVENT
DTSTART;TZID=America/New_York:20260613T110000
DTEND;TZID=America/New_York:20260613T160000
DTSTAMP:20260419T120940
CREATED:20260414T115132Z
LAST-MODIFIED:20260414T115132Z
UID:10003499-1781348400-1781366400@fairydustcrystals.com
SUMMARY:Reiki One with Joanne Ansell
DESCRIPTION:2 day event  June 13 and June 14\,  Saturday and Sunday\n\n\nDiscover the healing power of Reiki and learn how to channel energy for self-healing and the healing of others. This class is perfect for beginners looking to explore the world of energy healing. \n**What to Expect:** \n– Introduction to Reiki principles \n– Hands-on practice and techniques \n– Guidance from an experienced instructor \n– A supportive and nurturing environment \n**Reserve Your Spot Today!** \nSpaces are limited\, so be sure to register early!
URL:https://fairydustcrystals.com/event/reiki-one-with-joanne-ansell-3/2026-06-13/2/
LOCATION:Fairy Dust Crystals & Such\, 11781 SE US Highway 441\, Belleview\, FL\, United States
ATTACH;FMTTYPE=image/jpeg:https://fairydustcrystals.com/wp-content/uploads/2026/01/reikihands-2.jpg
END:VEVENT
BEGIN:VEVENT
DTSTART;TZID=America/New_York:20260614T110000
DTEND;TZID=America/New_York:20260614T160000
DTSTAMP:20260419T120940
CREATED:20260414T115132Z
LAST-MODIFIED:20260414T115132Z
UID:10003501-1781434800-1781452800@fairydustcrystals.com
SUMMARY:Reiki One with Joanne Ansell
DESCRIPTION:2 day event  June 13 and June 14\,  Saturday and Sunday\n\n\nDiscover the healing power of Reiki and learn how to channel energy for self-healing and the healing of others. This class is perfect for beginners looking to explore the world of energy healing. \n**What to Expect:** \n– Introduction to Reiki principles \n– Hands-on practice and techniques \n– Guidance from an experienced instructor \n– A supportive and nurturing environment \n**Reserve Your Spot Today!** \nSpaces are limited\, so be sure to register early!
URL:https://fairydustcrystals.com/event/reiki-one-with-joanne-ansell-3/2026-06-14/
LOCATION:Fairy Dust Crystals & Such\, 11781 SE US Highway 441\, Belleview\, FL\, United States
ATTACH;FMTTYPE=image/jpeg:https://fairydustcrystals.com/wp-content/uploads/2026/01/reikihands-2.jpg
END:VEVENT
END:VCALENDAR