BEGIN:VCALENDAR
VERSION:2.0
PRODID:-//Fairy Dust Crystals &amp; Such - ECPv6.15.20//NONSGML v1.0//EN
CALSCALE:GREGORIAN
METHOD:PUBLISH
X-WR-CALNAME:Fairy Dust Crystals &amp; Such
X-ORIGINAL-URL:https://fairydustcrystals.com
X-WR-CALDESC:Events for Fairy Dust Crystals &amp; Such
REFRESH-INTERVAL;VALUE=DURATION:PT1H
X-Robots-Tag:noindex
X-PUBLISHED-TTL:PT1H
BEGIN:VTIMEZONE
TZID:America/New_York
BEGIN:DAYLIGHT
TZOFFSETFROM:-0500
TZOFFSETTO:-0400
TZNAME:EDT
DTSTART:20250309T070000
END:DAYLIGHT
BEGIN:STANDARD
TZOFFSETFROM:-0400
TZOFFSETTO:-0500
TZNAME:EST
DTSTART:20251102T060000
END:STANDARD
BEGIN:DAYLIGHT
TZOFFSETFROM:-0500
TZOFFSETTO:-0400
TZNAME:EDT
DTSTART:20260308T070000
END:DAYLIGHT
BEGIN:STANDARD
TZOFFSETFROM:-0400
TZOFFSETTO:-0500
TZNAME:EST
DTSTART:20261101T060000
END:STANDARD
BEGIN:DAYLIGHT
TZOFFSETFROM:-0500
TZOFFSETTO:-0400
TZNAME:EDT
DTSTART:20270314T070000
END:DAYLIGHT
BEGIN:STANDARD
TZOFFSETFROM:-0400
TZOFFSETTO:-0500
TZNAME:EST
DTSTART:20271107T060000
END:STANDARD
END:VTIMEZONE
BEGIN:VEVENT
DTSTART;TZID=America/New_York:20260421T110000
DTEND;TZID=America/New_York:20260421T170000
DTSTAMP:20260419T134903
CREATED:20260127T122107Z
LAST-MODIFIED:20260218T205747Z
UID:10003359-1776769200-1776790800@fairydustcrystals.com
SUMMARY:Readings with "Mama" World Famous Master Psychic Witch
DESCRIPTION:Witchy Tuesday with “Mama” \nHe Always Sells out\, so please call the Shop at 352-693-4392 for your appointment now! \nMama  offers: \n● tarot readings $20 per 15mins \n● bone readings $60 \n● past lives readings $60 \n● NEW NEW cowrie shells reading $60 \n● crystal ball readings $100 \n● chess board divination readings $100 \n● group séances ● private séance $100 (one on one session) ☆ AVAILABLE for also all private house parties\, weddings\, buisness events & more \n 
URL:https://fairydustcrystals.com/event/readings-with-mama-world-famous-master-psychic-witch-3/2026-04-21/
LOCATION:Fairy Dust Crystals & Such\, 11781 SE US Highway 441\, Belleview\, FL\, United States
ATTACH;FMTTYPE=image/jpeg:https://fairydustcrystals.com/wp-content/uploads/2025/08/brian.jpg
END:VEVENT
END:VCALENDAR